BEGIN:VCALENDAR
VERSION:2.0
PRODID:-//Plone.org//NONSGML plone.app.event//EN
X-WR-TIMEZONE:Europe/Berlin
BEGIN:VEVENT
SUMMARY:Demo gegen TTIP
DTSTART;TZID=CET;VALUE=DATE-TIME:20151010T120000
DTEND;TZID=CET;VALUE=DATE-TIME:20151010T235959
DTSTAMP;VALUE=DATE-TIME:20260422T214217Z
UID:9ffef51ecc5f4b76a2c7beebf8c1c4f2@website_zeoclients
CREATED;VALUE=DATE-TIME:20150907T131418Z
DESCRIPTION:Ein breites Zivilgesellschaftliches Bündnis\, u.a. Meine Land
 wirtschaft und TTIP unfairhandelbar\, zu dem auch Slow Food Deutschland e.
  V. gehört\, ruft dazu auf\, an der Demonstration teilzunehmen.
LAST-MODIFIED;VALUE=DATE-TIME:20220620T175526Z
LOCATION:Berlin\, ab Hauptbahnhof
URL:https://www.slowfood.de/kalender/termine_ueberregional/demo_gegen_ttip
END:VEVENT
BEGIN:VTIMEZONE
TZID:CET
X-LIC-LOCATION:CET
BEGIN:DAYLIGHT
DTSTART;VALUE=DATE-TIME:20150329T030000
TZNAME:CEST
TZOFFSETFROM:+0100
TZOFFSETTO:+0200
END:DAYLIGHT
END:VTIMEZONE
END:VCALENDAR
