BEGIN:VCALENDAR
VERSION:2.0
PRODID:-//Plone.org//NONSGML plone.app.event//EN
X-WR-TIMEZONE:Europe/Berlin
BEGIN:VEVENT
SUMMARY:Katholikentag 2018
DTSTART;TZID=CET;VALUE=DATE-TIME:20180511T163000
DTEND;TZID=CET;VALUE=DATE-TIME:20180511T180000
DTSTAMP;VALUE=DATE-TIME:20260420T030547Z
UID:103df89c96b7466192e4a96a4faa63eb@website_zeoclients
CREATED;VALUE=DATE-TIME:20180411T153202Z
DESCRIPTION:Podiumsdiskussion: Jeder Mensch hat das Recht auf gutes Essen.
  Welche Wege führen zu einer Kultur der Gerechtigkeit? 
LAST-MODIFIED;VALUE=DATE-TIME:20220620T175529Z
LOCATION:Katholikentag\, Historisches Rathaus/Stadtweinhaus\, 1. OG\, Fest
 saal\, \, Prinzipalmarkt 10 \, Münster
URL:https://www.slowfood.de/kalender/termine_ueberregional/katholikentag_2
 018
END:VEVENT
BEGIN:VTIMEZONE
TZID:CET
X-LIC-LOCATION:CET
BEGIN:DAYLIGHT
DTSTART;VALUE=DATE-TIME:20180325T030000
TZNAME:CEST
TZOFFSETFROM:+0100
TZOFFSETTO:+0200
END:DAYLIGHT
END:VTIMEZONE
END:VCALENDAR
