BEGIN:VCALENDAR
VERSION:2.0
PRODID:-//Plone.org//NONSGML plone.app.event//EN
X-WR-TIMEZONE:Europe/Berlin
BEGIN:VEVENT
SUMMARY:Kinostart: Das System Milch
DTSTART;TZID=CET;VALUE=DATE-TIME:20170919T000000
DTEND;TZID=CET;VALUE=DATE-TIME:20170921T235959
DTSTAMP;VALUE=DATE-TIME:20260421T222528Z
UID:33440312c1ba4a768d755c3bf04c8499@website_zeoclients
CREATED;VALUE=DATE-TIME:20170919T091727Z
LAST-MODIFIED;VALUE=DATE-TIME:20220620T175530Z
LOCATION:bundesweit
URL:https://www.slowfood.de/kalender/termine_ueberregional/kinostart_das_s
 ystem_milch
END:VEVENT
BEGIN:VTIMEZONE
TZID:CET
X-LIC-LOCATION:CET
BEGIN:DAYLIGHT
DTSTART;VALUE=DATE-TIME:20170326T030000
TZNAME:CEST
TZOFFSETFROM:+0100
TZOFFSETTO:+0200
END:DAYLIGHT
END:VTIMEZONE
END:VCALENDAR
