BEGIN:VCALENDAR
VERSION:2.0
PRODID:-//Plone.org//NONSGML plone.app.event//EN
X-WR-TIMEZONE:Europe/Berlin
BEGIN:VEVENT
SUMMARY:12.03.2019 Stammtisch
DTSTART;TZID=Europe/Berlin;VALUE=DATE-TIME:20190312T193000
DTSTAMP;VALUE=DATE-TIME:20260422T150654Z
UID:50a43a5af19447a39ea3a933dc7d9cc5@website_zeoclients
CONTACT:aachen@slowfood.de
CREATED;VALUE=DATE-TIME:20190121T145944Z
DESCRIPTION:Restaurant Food Yard in der Theaterstraße 44
LAST-MODIFIED;VALUE=DATE-TIME:20220620T183307Z
LOCATION:Restaurant Food Yard\, Theaterstraße 44\, Aachen
URL:https://www.slowfood.de/netzwerk/vor-ort/aachen/termine/stammtisch
END:VEVENT
BEGIN:VTIMEZONE
TZID:Europe/Berlin
X-LIC-LOCATION:Europe/Berlin
BEGIN:STANDARD
DTSTART;VALUE=DATE-TIME:20181028T020000
TZNAME:CET
TZOFFSETFROM:+0200
TZOFFSETTO:+0100
END:STANDARD
END:VTIMEZONE
END:VCALENDAR
