BEGIN:VCALENDAR
VERSION:2.0
PRODID:-//Plone.org//NONSGML plone.app.event//EN
X-WR-TIMEZONE:Europe/Berlin
BEGIN:VEVENT
SUMMARY:2017 August
DTSTART;TZID=CET;VALUE=DATE-TIME:20170813T110000
DTEND;TZID=CET;VALUE=DATE-TIME:20170813T235959
DTSTAMP;VALUE=DATE-TIME:20260419T140952Z
UID:12cf5b91d12043debfbd9b7046f1752f@website_zeoclients
CONTACT:Slowfood Deutschland e.V.\, allgaeu@slowfood.de
CREATED;VALUE=DATE-TIME:20170615T191851Z
LAST-MODIFIED;VALUE=DATE-TIME:20220620T183552Z
LOCATION:Schloss Wartegg\, Blarer Weg 1\, 9404\, Rorschacherberg \, CH
URL:https://www.slowfood.de/netzwerk/vor-ort/allgaeu/termine/2017_august
END:VEVENT
BEGIN:VTIMEZONE
TZID:CET
X-LIC-LOCATION:CET
BEGIN:DAYLIGHT
DTSTART;VALUE=DATE-TIME:20170326T030000
TZNAME:CEST
TZOFFSETFROM:+0100
TZOFFSETTO:+0200
END:DAYLIGHT
END:VTIMEZONE
END:VCALENDAR
