BEGIN:VCALENDAR
VERSION:2.0
PRODID:-//Plone.org//NONSGML plone.app.event//EN
X-WR-TIMEZONE:Europe/Berlin
BEGIN:VEVENT
SUMMARY:Rapunzel
DTSTART;TZID=CET;VALUE=DATE-TIME:20110128T140000
DTEND;TZID=CET;VALUE=DATE-TIME:20110128T235959
DTSTAMP;VALUE=DATE-TIME:20260419T174925Z
UID:42f4467ef4e44b8194bd6a9da33cacc9@website_zeoclients
CONTACT:Slowfood Deutschland e.V.\, allgaeu@slowfood.de
CREATED;VALUE=DATE-TIME:20101219T174100Z
LAST-MODIFIED;VALUE=DATE-TIME:20220620T183549Z
LOCATION:Rapunzel\, Rapunzelstr. 1\, 87764\, Legau
URL:https://www.slowfood.de/netzwerk/vor-ort/allgaeu/termine/rapunzel
END:VEVENT
BEGIN:VTIMEZONE
TZID:CET
X-LIC-LOCATION:CET
BEGIN:STANDARD
DTSTART;VALUE=DATE-TIME:20101031T020000
TZNAME:CET
TZOFFSETFROM:+0200
TZOFFSETTO:+0100
END:STANDARD
END:VTIMEZONE
END:VCALENDAR
