BEGIN:VCALENDAR
VERSION:2.0
PRODID:-//Plone.org//NONSGML plone.app.event//EN
X-WR-TIMEZONE:Europe/Berlin
BEGIN:VEVENT
SUMMARY:Kochclub Eberswalde
DTSTART;TZID=CET;VALUE=DATE-TIME:20160610T153000
DTEND;TZID=CET;VALUE=DATE-TIME:20160610T235959
DTSTAMP;VALUE=DATE-TIME:20260419T180942Z
UID:b67f74e16de14672bf1704cdfb63505c@website_zeoclients
CREATED;VALUE=DATE-TIME:20150410T122522Z
DESCRIPTION:Geplant das Original Leipziger Allerlei mit Spargel\, Morcheln
  und Krebsschwänzen.
LAST-MODIFIED;VALUE=DATE-TIME:20220620T183730Z
LOCATION:Bürgerbildungszentrum Antonio Amadeu\, Puschkinstr. 16\, 1. Etag
 e\, 16225\, Eberswalde
URL:https://www.slowfood.de/netzwerk/vor-ort/barnim_oderland/termine/kochc
 lub_eberswalde_6
END:VEVENT
BEGIN:VTIMEZONE
TZID:CET
X-LIC-LOCATION:CET
BEGIN:DAYLIGHT
DTSTART;VALUE=DATE-TIME:20160327T030000
TZNAME:CEST
TZOFFSETFROM:+0100
TZOFFSETTO:+0200
END:DAYLIGHT
END:VTIMEZONE
END:VCALENDAR
