BEGIN:VCALENDAR
VERSION:2.0
PRODID:-//Plone.org//NONSGML plone.app.event//EN
X-WR-TIMEZONE:Europe/Berlin
BEGIN:VEVENT
SUMMARY:Gaenseessen 2015
DTSTART;TZID=CET;VALUE=DATE-TIME:20151128T180000
DTEND;TZID=CET;VALUE=DATE-TIME:20151128T235959
DTSTAMP;VALUE=DATE-TIME:20260421T154142Z
UID:5def02587a2343348ebf55a9653cbe08@website_zeoclients
CONTACT:Slowfood Deutschland e.V.\, bergischesland@slowfood.de
CREATED;VALUE=DATE-TIME:20150824T071544Z
LAST-MODIFIED;VALUE=DATE-TIME:20220620T183824Z
LOCATION:Landgasthof Auf dem Brink\, Elberfelder Str. 100\, 45549 Sprockh
 övel-Herzkamp
URL:https://www.slowfood.de/netzwerk/vor-ort/bergisches_land/termine/gaens
 eessen_2015
END:VEVENT
BEGIN:VTIMEZONE
TZID:CET
X-LIC-LOCATION:CET
BEGIN:STANDARD
DTSTART;VALUE=DATE-TIME:20151025T020000
TZNAME:CET
TZOFFSETFROM:+0200
TZOFFSETTO:+0100
END:STANDARD
END:VTIMEZONE
END:VCALENDAR
