BEGIN:VCALENDAR
VERSION:2.0
PRODID:-//Plone.org//NONSGML plone.app.event//EN
X-WR-TIMEZONE:Europe/Berlin
BEGIN:VEVENT
SUMMARY:Tafelrunde_20151015
DTSTART;TZID=CET;VALUE=DATE-TIME:20151015T193000
DTEND;TZID=CET;VALUE=DATE-TIME:20151015T235959
DTSTAMP;VALUE=DATE-TIME:20260421T062044Z
UID:39f4a188a2f549f3b6ac92499cf25640@website_zeoclients
CONTACT:Slow Food Bocholt\, slowfood-bocholt@wir-selbstversorger.de
CREATED;VALUE=DATE-TIME:20150703T110127Z
LAST-MODIFIED;VALUE=DATE-TIME:20220620T184148Z
LOCATION:Jeanette-Wolff-Zentrum\, Dürerstr. 1\, 46399\, Bocholt
URL:https://www.slowfood.de/netzwerk/vor-ort/bocholt/termine/tafelrunde_20
 151015
END:VEVENT
BEGIN:VTIMEZONE
TZID:CET
X-LIC-LOCATION:CET
BEGIN:DAYLIGHT
DTSTART;VALUE=DATE-TIME:20150329T030000
TZNAME:CEST
TZOFFSETFROM:+0100
TZOFFSETTO:+0200
END:DAYLIGHT
END:VTIMEZONE
END:VCALENDAR
