BEGIN:VCALENDAR
VERSION:2.0
PRODID:-//Plone.org//NONSGML plone.app.event//EN
X-WR-TIMEZONE:Europe/Berlin
BEGIN:VEVENT
SUMMARY:Mitgliederversammlung 2015
DTSTART;TZID=CET;VALUE=DATE-TIME:20150306T190000
DTEND;TZID=CET;VALUE=DATE-TIME:20150306T235959
DTSTAMP;VALUE=DATE-TIME:20260420T203228Z
UID:526fa96e6377472bb9a754756b287831@website_zeoclients
CONTACT:Slowfood Deutschland e.V.\, bodensee@slowfood.de
CREATED;VALUE=DATE-TIME:20150209T151618Z
LAST-MODIFIED;VALUE=DATE-TIME:20220620T191406Z
LOCATION:Hotel Restaurant Maier\, Poststr. 1 - 3\, 88048\, Friedrichshafen
 -Fischbach
URL:https://www.slowfood.de/netzwerk/vor-ort/bodensee/termine/mitgliederve
 rsammlung_2015
END:VEVENT
BEGIN:VTIMEZONE
TZID:CET
X-LIC-LOCATION:CET
BEGIN:STANDARD
DTSTART;VALUE=DATE-TIME:20141026T020000
TZNAME:CET
TZOFFSETFROM:+0200
TZOFFSETTO:+0100
END:STANDARD
END:VTIMEZONE
END:VCALENDAR
