BEGIN:VCALENDAR
VERSION:2.0
PRODID:-//Plone.org//NONSGML plone.app.event//EN
X-WR-TIMEZONE:Europe/Berlin
BEGIN:VEVENT
SUMMARY:bergmannbräu
DTSTART;TZID=CET;VALUE=DATE-TIME:20091201T190000
DTEND;TZID=CET;VALUE=DATE-TIME:20091201T235959
DTSTAMP;VALUE=DATE-TIME:20260421T062219Z
UID:6c097d446b134551b6753862ca074752@website_zeoclients
CONTACT:Slowfood Deutschland e.V.\, dortmund@slowfood.de
CREATED;VALUE=DATE-TIME:20091026T142016Z
LAST-MODIFIED;VALUE=DATE-TIME:20220620T192753Z
LOCATION:Bergmannbräu\, Schäferstr. 33A\, Dortmund
URL:https://www.slowfood.de/netzwerk/vor-ort/dortmund/termine/bergmannbrae
 u
END:VEVENT
BEGIN:VTIMEZONE
TZID:CET
X-LIC-LOCATION:CET
BEGIN:STANDARD
DTSTART;VALUE=DATE-TIME:20091025T020000
TZNAME:CET
TZOFFSETFROM:+0200
TZOFFSETTO:+0100
END:STANDARD
END:VTIMEZONE
END:VCALENDAR
