BEGIN:VCALENDAR
VERSION:2.0
PRODID:-//Plone.org//NONSGML plone.app.event//EN
X-WR-TIMEZONE:Europe/Berlin
BEGIN:VEVENT
SUMMARY:Mitgliederversammlung
DTSTART;TZID=Europe/Berlin;VALUE=DATE-TIME:20191014T190000
DTSTAMP;VALUE=DATE-TIME:20260421T002240Z
UID:9824af351f2d4b2ab974d1fdac5bcb4f@website_zeoclients
CREATED;VALUE=DATE-TIME:20190601T124711Z
DESCRIPTION:Wir möchten unser Mitgliederversammlung dazu nutzen\, einen g
 emeinsamen Blick auf das Jahr zu richten: was war gelungen\, hat unser Wis
 sen erweitert und auch Spaß gemacht – welche Themen/Besichtigungen soll
 ten wir uns für das neue Jahr vornehmen? Erste Planungen für eine neue W
 einreise im Frühjahr 2020 werden auch schon vorgestellt.
LAST-MODIFIED;VALUE=DATE-TIME:20220620T193609Z
LOCATION:Kochschule im Schellenberger Schloss\, Renteilichtung 1\, Essen
URL:https://www.slowfood.de/netzwerk/vor-ort/essen/termine/mitgliederversa
 mmlung
END:VEVENT
BEGIN:VTIMEZONE
TZID:Europe/Berlin
X-LIC-LOCATION:Europe/Berlin
BEGIN:DAYLIGHT
DTSTART;VALUE=DATE-TIME:20190331T030000
TZNAME:CEST
TZOFFSETFROM:+0100
TZOFFSETTO:+0200
END:DAYLIGHT
END:VTIMEZONE
END:VCALENDAR
