BEGIN:VCALENDAR
VERSION:2.0
PRODID:-//Plone.org//NONSGML plone.app.event//EN
X-WR-TIMEZONE:Europe/Berlin
BEGIN:VEVENT
SUMMARY:Neujahrs-Empfang
DTSTART;TZID=Europe/Berlin;VALUE=DATE-TIME:20250130T180000
DTSTAMP;VALUE=DATE-TIME:20260419T230104Z
UID:e6350a1d9a46480f9266b96c02551a00@website_zeoclients
CONTACT:essen@slowfood.de
CREATED;VALUE=DATE-TIME:20241130T211640Z
DESCRIPTION:Wir werden das neue Jahr 2025 mit einem Neujahrsmenü im Resta
 urant „LA PETITE CAVE DE JEANETTE“ begrüßen.
LAST-MODIFIED;VALUE=DATE-TIME:20250124T160904Z
LOCATION:Restaurant LA PETITE CAVE DE JEANNETTE\, Kortumstraße 47\, 45130
 \, Essen
URL:https://www.slowfood.de/netzwerk/vor-ort/essen/termine/neujahrs-empfan
 g
END:VEVENT
BEGIN:VTIMEZONE
TZID:Europe/Berlin
X-LIC-LOCATION:Europe/Berlin
BEGIN:STANDARD
DTSTART;VALUE=DATE-TIME:20241027T020000
TZNAME:CET
TZOFFSETFROM:+0200
TZOFFSETTO:+0100
END:STANDARD
END:VTIMEZONE
END:VCALENDAR
