BEGIN:VCALENDAR
VERSION:2.0
PRODID:-//Plone.org//NONSGML plone.app.event//EN
X-WR-TIMEZONE:Europe/Berlin
BEGIN:VEVENT
SUMMARY:Neujahrsbegrüßung
DTSTART;TZID=Europe/Berlin;VALUE=DATE-TIME:20220129T110000
DTSTAMP;VALUE=DATE-TIME:20260421T150516Z
UID:456ddc9c6e934aa2831ab36e2c841be0@website_zeoclients
CONTACT:essen@slowfood.de
CREATED;VALUE=DATE-TIME:20211125T203702Z
DESCRIPTION:Mit einem Glas Sekt oder Saft stoßen wir auf das neue Jahr an
  und tauschen uns über die Aktivitäten der nächsten Monate aus. Patrick
  Jabs bereitet zur Stärkung kleine\, leckere Gerichte vor.
LAST-MODIFIED;VALUE=DATE-TIME:20220620T193637Z
LOCATION:Kochschule lecker werden\, Ruhrtalstraße 19A\, 45239\, Essen
URL:https://www.slowfood.de/netzwerk/vor-ort/essen/termine/neujahrsbegrues
 sung
END:VEVENT
BEGIN:VTIMEZONE
TZID:Europe/Berlin
X-LIC-LOCATION:Europe/Berlin
BEGIN:STANDARD
DTSTART;VALUE=DATE-TIME:20211031T020000
TZNAME:CET
TZOFFSETFROM:+0200
TZOFFSETTO:+0100
END:STANDARD
END:VTIMEZONE
END:VCALENDAR
