BEGIN:VCALENDAR
VERSION:2.0
PRODID:-//Plone.org//NONSGML plone.app.event//EN
X-WR-TIMEZONE:Europe/Berlin
BEGIN:VEVENT
SUMMARY:Planungsabend
DTSTART;TZID=CET;VALUE=DATE-TIME:20080910T193000
DTEND;TZID=CET;VALUE=DATE-TIME:20080910T235959
DTSTAMP;VALUE=DATE-TIME:20260420T015612Z
UID:8ea12f577672489ba132a554b6378996@website_zeoclients
CONTACT:Slowfood Freiburg\, freiburg@slowfood.de
CREATED;VALUE=DATE-TIME:20060329T182742Z
LAST-MODIFIED;VALUE=DATE-TIME:20220620T194351Z
LOCATION:Familienpflegeschule\, Kartäuserstraße 43\, Freiburg
URL:https://www.slowfood.de/netzwerk/vor-ort/freiburg/alle_termine/080910p
 lanung
END:VEVENT
BEGIN:VTIMEZONE
TZID:CET
X-LIC-LOCATION:CET
BEGIN:DAYLIGHT
DTSTART;VALUE=DATE-TIME:20080330T030000
TZNAME:CEST
TZOFFSETFROM:+0100
TZOFFSETTO:+0200
END:DAYLIGHT
END:VTIMEZONE
END:VCALENDAR
