BEGIN:VCALENDAR
VERSION:2.0
PRODID:-//Plone.org//NONSGML plone.app.event//EN
X-WR-TIMEZONE:Europe/Berlin
BEGIN:VEVENT
SUMMARY:Eßbares Elfenbein
DTSTART;TZID=CET;VALUE=DATE-TIME:20080517T200000
DTEND;TZID=CET;VALUE=DATE-TIME:20080517T235959
DTSTAMP;VALUE=DATE-TIME:20260420T144412Z
UID:cc90bc562c004b0f8ab9dfce1cc1de12@website_zeoclients
CREATED;VALUE=DATE-TIME:20080222T162327Z
LAST-MODIFIED;VALUE=DATE-TIME:20220620T194219Z
LOCATION:Historisches Kaufhaus\, Freiburg
URL:https://www.slowfood.de/netzwerk/vor-ort/freiburg/terminarchiv/spargel
END:VEVENT
BEGIN:VTIMEZONE
TZID:CET
X-LIC-LOCATION:CET
BEGIN:DAYLIGHT
DTSTART;VALUE=DATE-TIME:20080330T030000
TZNAME:CEST
TZOFFSETFROM:+0100
TZOFFSETTO:+0200
END:DAYLIGHT
END:VTIMEZONE
END:VCALENDAR
