BEGIN:VCALENDAR
VERSION:2.0
PRODID:-//Plone.org//NONSGML plone.app.event//EN
X-WR-TIMEZONE:Europe/Berlin
BEGIN:VEVENT
SUMMARY:Elkershausen
DTSTART;TZID=CET;VALUE=DATE-TIME:20080718T160000
DTEND;TZID=CET;VALUE=DATE-TIME:20080718T235959
DTSTAMP;VALUE=DATE-TIME:20260421T235638Z
UID:6d93ca5b96e74020a147ef4f8fb8a9b0@website_zeoclients
CONTACT:Slowfood Göttingen\, goettingen@slowfood.de
CREATED;VALUE=DATE-TIME:20080226T074911Z
LAST-MODIFIED;VALUE=DATE-TIME:20220620T204052Z
LOCATION:Naturkost Elkershausen\, Levinstr. 9\, 37079\, Göttingen
URL:https://www.slowfood.de/netzwerk/vor-ort/goettingen/termine/elkershaus
 en
END:VEVENT
BEGIN:VTIMEZONE
TZID:CET
X-LIC-LOCATION:CET
BEGIN:DAYLIGHT
DTSTART;VALUE=DATE-TIME:20080330T030000
TZNAME:CEST
TZOFFSETFROM:+0100
TZOFFSETTO:+0200
END:DAYLIGHT
END:VTIMEZONE
END:VCALENDAR
