BEGIN:VCALENDAR
VERSION:2.0
PRODID:-//Plone.org//NONSGML plone.app.event//EN
X-WR-TIMEZONE:Europe/Berlin
BEGIN:VEVENT
SUMMARY:Paella
DTSTART;TZID=CET;VALUE=DATE-TIME:20110701T180000
DTEND;TZID=CET;VALUE=DATE-TIME:20110701T235959
DTSTAMP;VALUE=DATE-TIME:20260420T021014Z
UID:c888e4a428344fe58954723aba42d0c6@website_zeoclients
CONTACT:Slowfood Deutschland e.V.\, goettingen@slowfood.de
CREATED;VALUE=DATE-TIME:20110624T083544Z
LAST-MODIFIED;VALUE=DATE-TIME:20220620T204058Z
LOCATION:Garten der Conviviumleiterin\, Schlagenweg 8\, Göttingen
URL:https://www.slowfood.de/netzwerk/vor-ort/goettingen/termine/paella
END:VEVENT
BEGIN:VTIMEZONE
TZID:CET
X-LIC-LOCATION:CET
BEGIN:DAYLIGHT
DTSTART;VALUE=DATE-TIME:20110327T030000
TZNAME:CEST
TZOFFSETFROM:+0100
TZOFFSETTO:+0200
END:DAYLIGHT
END:VTIMEZONE
END:VCALENDAR
