BEGIN:VCALENDAR
VERSION:2.0
PRODID:-//Plone.org//NONSGML plone.app.event//EN
X-WR-TIMEZONE:Europe/Berlin
BEGIN:VEVENT
SUMMARY:Schafkäse
DTSTART;TZID=CET;VALUE=DATE-TIME:20060914T180000
DTEND;TZID=CET;VALUE=DATE-TIME:20060914T235959
DTSTAMP;VALUE=DATE-TIME:20260421T222434Z
UID:d2dc3c83e7e64019a27094eebe6075ff@website_zeoclients
CONTACT:Slowfood Goettingen\, goettingen@slowfood.de
CREATED;VALUE=DATE-TIME:20060614T145320Z
LAST-MODIFIED;VALUE=DATE-TIME:20220620T204049Z
LOCATION:Milchschafhof Lutterhausen\, Lutterhäuser Str. 6\, 37181\, Harde
 gsen
URL:https://www.slowfood.de/netzwerk/vor-ort/goettingen/termine/schafkse
END:VEVENT
BEGIN:VTIMEZONE
TZID:CET
X-LIC-LOCATION:CET
BEGIN:DAYLIGHT
DTSTART;VALUE=DATE-TIME:20060326T030000
TZNAME:CEST
TZOFFSETFROM:+0100
TZOFFSETTO:+0200
END:DAYLIGHT
END:VTIMEZONE
END:VCALENDAR
