BEGIN:VCALENDAR
VERSION:2.0
PRODID:-//Plone.org//NONSGML plone.app.event//EN
X-WR-TIMEZONE:Europe/Berlin
BEGIN:VEVENT
SUMMARY:Baumgartenhof
DTSTART;TZID=CET;VALUE=DATE-TIME:20080413T143000
DTEND;TZID=Europe/Berlin;VALUE=DATE-TIME:20080413T235900
DTSTAMP;VALUE=DATE-TIME:20260419T173507Z
UID:ca75680c002d433089a37c6223722f21@website_zeoclients
CONTACT:Slowfood Göttingen\, goettingen@slowfood.de
CREATED;VALUE=DATE-TIME:20080226T071416Z
LAST-MODIFIED;VALUE=DATE-TIME:20220620T204051Z
LOCATION:Baumgartenhof\, Bodo Bertsch\, Baumgarten 2\, 37077\, Rohringen
URL:https://www.slowfood.de/netzwerk/vor-ort/goettingen/termine/seitentite
 l
END:VEVENT
BEGIN:VTIMEZONE
TZID:Europe/Berlin
X-LIC-LOCATION:Europe/Berlin
BEGIN:DAYLIGHT
DTSTART;VALUE=DATE-TIME:20080330T030000
TZNAME:CEST
TZOFFSETFROM:+0100
TZOFFSETTO:+0200
END:DAYLIGHT
END:VTIMEZONE
BEGIN:VTIMEZONE
TZID:CET
X-LIC-LOCATION:CET
BEGIN:DAYLIGHT
DTSTART;VALUE=DATE-TIME:20080330T030000
TZNAME:CEST
TZOFFSETFROM:+0100
TZOFFSETTO:+0200
END:DAYLIGHT
END:VTIMEZONE
END:VCALENDAR
