BEGIN:VCALENDAR
VERSION:2.0
PRODID:-//Plone.org//NONSGML plone.app.event//EN
X-WR-TIMEZONE:Europe/Berlin
BEGIN:VEVENT
SUMMARY:Slow Fisch
DTSTART;TZID=CET;VALUE=DATE-TIME:20081107T100000
DTEND;TZID=CET;VALUE=DATE-TIME:20081109T180000
DTSTAMP;VALUE=DATE-TIME:20260419T140039Z
UID:6c95f1d6e36e4d92b81729c76abb5737@website_zeoclients
CONTACT:Slowfood Göttingen\, goettingen@slowfood.de
CREATED;VALUE=DATE-TIME:20080822T110345Z
LAST-MODIFIED;VALUE=DATE-TIME:20220620T204053Z
LOCATION:Messe Bremen
URL:https://www.slowfood.de/netzwerk/vor-ort/goettingen/termine/slow_fisch
END:VEVENT
BEGIN:VTIMEZONE
TZID:CET
X-LIC-LOCATION:CET
BEGIN:STANDARD
DTSTART;VALUE=DATE-TIME:20081026T020000
TZNAME:CET
TZOFFSETFROM:+0200
TZOFFSETTO:+0100
END:STANDARD
END:VTIMEZONE
END:VCALENDAR
