BEGIN:VCALENDAR
VERSION:2.0
PRODID:-//Plone.org//NONSGML plone.app.event//EN
X-WR-TIMEZONE:Europe/Berlin
BEGIN:VEVENT
SUMMARY:5 Elemente Küche
DTSTART;TZID=CET;VALUE=DATE-TIME:20101130T100000
DTEND;TZID=CET;VALUE=DATE-TIME:20101130T133000
DTSTAMP;VALUE=DATE-TIME:20260419T140953Z
UID:1f57c6e943f34314ad96ee15e8a59e54@website_zeoclients
CONTACT:Slow Food Convivium Hannover\, hannover@slowfood.de
CREATED;VALUE=DATE-TIME:20080614T152953Z
DESCRIPTION:Einführung für Erwachsene.
LAST-MODIFIED;VALUE=DATE-TIME:20220620T194804Z
LOCATION:Kinderküche Anne-Töpfe\, Oberstraße 8\, 30167\, Hannover
URL:https://www.slowfood.de/netzwerk/vor-ort/hannover/termine/5_elemente_k
 ueche
END:VEVENT
BEGIN:VTIMEZONE
TZID:CET
X-LIC-LOCATION:CET
BEGIN:STANDARD
DTSTART;VALUE=DATE-TIME:20101031T020000
TZNAME:CET
TZOFFSETFROM:+0200
TZOFFSETTO:+0100
END:STANDARD
END:VTIMEZONE
END:VCALENDAR
