BEGIN:VCALENDAR
VERSION:2.0
PRODID:-//Plone.org//NONSGML plone.app.event//EN
X-WR-TIMEZONE:Europe/Berlin
BEGIN:VEVENT
SUMMARY:Einbecker Senf
DTSTART;TZID=CET;VALUE=DATE-TIME:20110402T140000
DTEND;TZID=CET;VALUE=DATE-TIME:20110402T235959
DTSTAMP;VALUE=DATE-TIME:20260421T202751Z
UID:d0a4187373764c5393945b13277667fe@website_zeoclients
CONTACT:Slow Food Convivium Hannover\, hannover@slowfood.de
CREATED;VALUE=DATE-TIME:20080614T152953Z
LAST-MODIFIED;VALUE=DATE-TIME:20220620T194759Z
LOCATION:Einbecker Senfmühle\, Knochenhauerstraße 26\, 37574\, Einbeck
URL:https://www.slowfood.de/netzwerk/vor-ort/hannover/termine/einbecker_se
 nf
END:VEVENT
BEGIN:VTIMEZONE
TZID:CET
X-LIC-LOCATION:CET
BEGIN:DAYLIGHT
DTSTART;VALUE=DATE-TIME:20110327T030000
TZNAME:CEST
TZOFFSETFROM:+0100
TZOFFSETTO:+0200
END:DAYLIGHT
END:VTIMEZONE
END:VCALENDAR
