BEGIN:VCALENDAR
VERSION:2.0
PRODID:-//Plone.org//NONSGML plone.app.event//EN
X-WR-TIMEZONE:Europe/Berlin
BEGIN:VEVENT
SUMMARY:Schnippel-Talk
DTSTART;TZID=CET;VALUE=DATE-TIME:20141020T180000
DTEND;TZID=CET;VALUE=DATE-TIME:20141020T235959
DTSTAMP;VALUE=DATE-TIME:20260420T020625Z
UID:31d3aba678e649ccae4140998f622add@website_zeoclients
CONTACT:Slow Food Youth Hannover\, youthhannover@slowfood.de
CREATED;VALUE=DATE-TIME:20121210T185930Z
DESCRIPTION:Teller statt Tonne!
LAST-MODIFIED;VALUE=DATE-TIME:20220620T194713Z
LOCATION:Haus der Jugend\, Maschstraße 22 – 24\, 30169\, Hannover
URL:https://www.slowfood.de/netzwerk/vor-ort/hannover/termine/schnippel_ta
 lk
END:VEVENT
BEGIN:VTIMEZONE
TZID:CET
X-LIC-LOCATION:CET
BEGIN:DAYLIGHT
DTSTART;VALUE=DATE-TIME:20140330T030000
TZNAME:CEST
TZOFFSETFROM:+0100
TZOFFSETTO:+0200
END:DAYLIGHT
END:VTIMEZONE
END:VCALENDAR
