BEGIN:VCALENDAR
VERSION:2.0
PRODID:-//Plone.org//NONSGML plone.app.event//EN
X-WR-TIMEZONE:Europe/Berlin
BEGIN:VEVENT
SUMMARY:Schnippel-Talk 7
DTSTART;TZID=CET;VALUE=DATE-TIME:20161027T180000
DTEND;TZID=CET;VALUE=DATE-TIME:20161027T235959
DTSTAMP;VALUE=DATE-TIME:20260421T235635Z
UID:240e659ed6d54b7a855210380d2acf90@website_zeoclients
CONTACT:Slow Food Youth Hannover\, youthhannover@slowfood.de
CREATED;VALUE=DATE-TIME:20121210T185930Z
LAST-MODIFIED;VALUE=DATE-TIME:20220620T194641Z
LOCATION:Haus der Jugend\, Maschstraße 22 – 24\, 30169\, Hannover
URL:https://www.slowfood.de/netzwerk/vor-ort/hannover/termine/schnippel_ta
 lk_7
END:VEVENT
BEGIN:VTIMEZONE
TZID:CET
X-LIC-LOCATION:CET
BEGIN:DAYLIGHT
DTSTART;VALUE=DATE-TIME:20160327T030000
TZNAME:CEST
TZOFFSETFROM:+0100
TZOFFSETTO:+0200
END:DAYLIGHT
END:VTIMEZONE
END:VCALENDAR
