BEGIN:VCALENDAR
VERSION:2.0
PRODID:-//Plone.org//NONSGML plone.app.event//EN
X-WR-TIMEZONE:Europe/Berlin
BEGIN:VEVENT
SUMMARY:Schnuckenmarkt 15-2
DTSTART;TZID=CET;VALUE=DATE-TIME:20151017T130000
DTEND;TZID=CET;VALUE=DATE-TIME:20151017T180000
DTSTAMP;VALUE=DATE-TIME:20260419T180524Z
UID:d115d809ae2b45b897fa33d8eaa2411e@website_zeoclients
CONTACT:Slow Food Convivium Hannover\, hannover@slowfood.de
CREATED;VALUE=DATE-TIME:20080722T184613Z
LAST-MODIFIED;VALUE=DATE-TIME:20220620T194653Z
LOCATION:Familie Schmatzler\, Lange Straße 4\, 30938\, Burgwedel-Fuhrberg
URL:https://www.slowfood.de/netzwerk/vor-ort/hannover/termine/schnuckenmar
 kt_15_2
END:VEVENT
BEGIN:VTIMEZONE
TZID:CET
X-LIC-LOCATION:CET
BEGIN:DAYLIGHT
DTSTART;VALUE=DATE-TIME:20150329T030000
TZNAME:CEST
TZOFFSETFROM:+0100
TZOFFSETTO:+0200
END:DAYLIGHT
END:VTIMEZONE
END:VCALENDAR
