BEGIN:VCALENDAR
VERSION:2.0
PRODID:-//Plone.org//NONSGML plone.app.event//EN
X-WR-TIMEZONE:Europe/Berlin
BEGIN:VEVENT
SUMMARY:Süntel-Lädchen
DTSTART;TZID=CET;VALUE=DATE-TIME:20160917T000000
DTEND;TZID=CET;VALUE=DATE-TIME:20160917T235959
DTSTAMP;VALUE=DATE-TIME:20260421T235636Z
UID:2908f50870dd4163be8fdea93f4c7a7d@website_zeoclients
CONTACT:Slowfood Deutschland e.V.\, a.mueller@dr-ambrosius.de
CREATED;VALUE=DATE-TIME:20121210T192647Z
DESCRIPTION:Besuch beim Süntellädchen e.V. in Bad Münder-Flegessen
LAST-MODIFIED;VALUE=DATE-TIME:20220620T194641Z
LOCATION:Süntellädchen\, Gülichster. 31\, 31848\, Bad Münder-Flegessen
URL:https://www.slowfood.de/netzwerk/vor-ort/hannover/termine/suentel_laed
 chen
END:VEVENT
BEGIN:VTIMEZONE
TZID:CET
X-LIC-LOCATION:CET
BEGIN:DAYLIGHT
DTSTART;VALUE=DATE-TIME:20160327T030000
TZNAME:CEST
TZOFFSETFROM:+0100
TZOFFSETTO:+0200
END:DAYLIGHT
END:VTIMEZONE
END:VCALENDAR
