BEGIN:VCALENDAR
VERSION:2.0
PRODID:-//Plone.org//NONSGML plone.app.event//EN
X-WR-TIMEZONE:Europe/Berlin
BEGIN:VEVENT
SUMMARY:Tafelrunde Jan_14
DTSTART;TZID=CET;VALUE=DATE-TIME:20140107T190000
DTEND;TZID=CET;VALUE=DATE-TIME:20140107T235959
DTSTAMP;VALUE=DATE-TIME:20260421T193436Z
UID:f4b01babd4fe42b5b3dec5bd0b54571c@website_zeoclients
CONTACT:Slowfood Deutschland e.V.\, dieter.rohs@gmail.com
CREATED;VALUE=DATE-TIME:20121210T192647Z
LAST-MODIFIED;VALUE=DATE-TIME:20220620T194724Z
LOCATION:Kurt 16\, Kurt Schumacher Straße 14/16\, 30159\, Hannover
URL:https://www.slowfood.de/netzwerk/vor-ort/hannover/termine/tafelrunde_j
 an_14
END:VEVENT
BEGIN:VTIMEZONE
TZID:CET
X-LIC-LOCATION:CET
BEGIN:STANDARD
DTSTART;VALUE=DATE-TIME:20131027T020000
TZNAME:CET
TZOFFSETFROM:+0200
TZOFFSETTO:+0100
END:STANDARD
END:VTIMEZONE
END:VCALENDAR
