BEGIN:VCALENDAR
VERSION:2.0
PRODID:-//Plone.org//NONSGML plone.app.event//EN
X-WR-TIMEZONE:Europe/Berlin
BEGIN:VEVENT
SUMMARY:Wildgemüse
DTSTART;TZID=CET;VALUE=DATE-TIME:20140412T140000
DTEND;TZID=CET;VALUE=DATE-TIME:20140412T235959
DTSTAMP;VALUE=DATE-TIME:20260420T073649Z
UID:edddf44dd1f04c56b704eefc124b2a66@website_zeoclients
CONTACT:Slowfood Deutschland e.V.\, hannover@slowfood.de
CREATED;VALUE=DATE-TIME:20121210T192647Z
DESCRIPTION:Wildgemüse – Brennnessel & Co.
LAST-MODIFIED;VALUE=DATE-TIME:20220620T194719Z
LOCATION:Birgit Brinkmann\, Agnes-Nordmeier-Weg\, 31737\, Rinteln / Deckbe
 rgen
URL:https://www.slowfood.de/netzwerk/vor-ort/hannover/termine/wildgemuese
END:VEVENT
BEGIN:VTIMEZONE
TZID:CET
X-LIC-LOCATION:CET
BEGIN:DAYLIGHT
DTSTART;VALUE=DATE-TIME:20140330T030000
TZNAME:CEST
TZOFFSETFROM:+0100
TZOFFSETTO:+0200
END:DAYLIGHT
END:VTIMEZONE
END:VCALENDAR
