BEGIN:VCALENDAR
VERSION:2.0
PRODID:-//Plone.org//NONSGML plone.app.event//EN
X-WR-TIMEZONE:Europe/Berlin
BEGIN:VEVENT
SUMMARY:WEIHNACHTLICHES WEIßWURST-ESSEN Dezember | 24.12. | Diagonal | In
 golstadt
DTSTART;TZID=Europe/Berlin;VALUE=DATE-TIME:20231224T100000
DTEND;TZID=Europe/Berlin;VALUE=DATE-TIME:20231224T113000
DTSTAMP;VALUE=DATE-TIME:20260420T053811Z
UID:d86dade5ac86484f96a8730518e05f17@website_zeoclients
CREATED;VALUE=DATE-TIME:20230214T171358Z
DESCRIPTION:Traditionelles Weißwurst-Essen am Vormittag des Heiligen Aben
 ds. Glaubt es einfach - ein wunderbarer Start in diesen besonderen Tag!
LAST-MODIFIED;VALUE=DATE-TIME:20231218T085723Z
LOCATION:Diagonal\, Kreuzstraße 12\, 85049\, Ingolstadt
URL:https://www.slowfood.de/netzwerk/vor-ort/ingolstadt/termine/weiss
END:VEVENT
BEGIN:VTIMEZONE
TZID:Europe/Berlin
X-LIC-LOCATION:Europe/Berlin
BEGIN:STANDARD
DTSTART;VALUE=DATE-TIME:20231029T020000
TZNAME:CET
TZOFFSETFROM:+0200
TZOFFSETTO:+0100
END:STANDARD
END:VTIMEZONE
END:VCALENDAR
