BEGIN:VCALENDAR
VERSION:2.0
PRODID:-//Plone.org//NONSGML plone.app.event//EN
X-WR-TIMEZONE:Europe/Berlin
BEGIN:VEVENT
SUMMARY:Kaese
DTSTART;TZID=CET;VALUE=DATE-TIME:20110122T140000
DTEND;TZID=CET;VALUE=DATE-TIME:20110122T235959
DTSTAMP;VALUE=DATE-TIME:20260421T221412Z
UID:455fad26c494481cb3f7465c2c5fddb3@website_zeoclients
CONTACT:Slowfood Deutschland e.V.\, karlsruhe@slowfood.de
CREATED;VALUE=DATE-TIME:20101104T211135Z
LAST-MODIFIED;VALUE=DATE-TIME:20220620T195018Z
LOCATION:Käsemanufanktur Müller\, Rathausstrasse 36\, 68766\, Hockenheim
URL:https://www.slowfood.de/netzwerk/vor-ort/karlsruhe/termine/kaese
END:VEVENT
BEGIN:VTIMEZONE
TZID:CET
X-LIC-LOCATION:CET
BEGIN:STANDARD
DTSTART;VALUE=DATE-TIME:20101031T020000
TZNAME:CET
TZOFFSETFROM:+0200
TZOFFSETTO:+0100
END:STANDARD
END:VTIMEZONE
END:VCALENDAR
