BEGIN:VCALENDAR
VERSION:2.0
PRODID:-//Plone.org//NONSGML plone.app.event//EN
X-WR-TIMEZONE:Europe/Berlin
BEGIN:VEVENT
SUMMARY:Schmackhafter Besuch der Gärtnerei Kräuterkind
DTSTART;TZID=Europe/Berlin;VALUE=DATE-TIME:20200516T170000
DTEND;TZID=Europe/Berlin;VALUE=DATE-TIME:20200516T210000
DTSTAMP;VALUE=DATE-TIME:20260422T021259Z
UID:74c582960b8146e8951bf870d3abae46@website_zeoclients
CREATED;VALUE=DATE-TIME:20120427T141359Z
LAST-MODIFIED;VALUE=DATE-TIME:20220620T195355Z
LOCATION:Gärtnerei Kräuterkind\, Beselerstraße 97\, 50354\, Hürth
URL:https://www.slowfood.de/netzwerk/vor-ort/koeln/termine/kraeuterkind
END:VEVENT
BEGIN:VTIMEZONE
TZID:Europe/Berlin
X-LIC-LOCATION:Europe/Berlin
BEGIN:DAYLIGHT
DTSTART;VALUE=DATE-TIME:20200329T030000
TZNAME:CEST
TZOFFSETFROM:+0100
TZOFFSETTO:+0200
END:DAYLIGHT
END:VTIMEZONE
END:VCALENDAR
