BEGIN:VCALENDAR
VERSION:2.0
PRODID:-//Plone.org//NONSGML plone.app.event//EN
X-WR-TIMEZONE:Europe/Berlin
BEGIN:VEVENT
SUMMARY:Wir wursten
DTSTART;TZID=CET;VALUE=DATE-TIME:20181201T110000
DTEND;TZID=CET;VALUE=DATE-TIME:20181201T170000
DTSTAMP;VALUE=DATE-TIME:20260420T021452Z
UID:bf1c9bfa36194330a7a8f2b909199c28@website_zeoclients
CONTACT:Slow Food Köln\, koeln@slowfood.de
CREATED;VALUE=DATE-TIME:20120427T141359Z
LAST-MODIFIED;VALUE=DATE-TIME:20220620T195324Z
LOCATION:Biofleischerei Müller\, Görresstraße 1\, 51373\, Leverkusen
URL:https://www.slowfood.de/netzwerk/vor-ort/koeln/termine/wir_wursten
END:VEVENT
BEGIN:VTIMEZONE
TZID:CET
X-LIC-LOCATION:CET
BEGIN:STANDARD
DTSTART;VALUE=DATE-TIME:20181028T020000
TZNAME:CET
TZOFFSETFROM:+0200
TZOFFSETTO:+0100
END:STANDARD
END:VTIMEZONE
END:VCALENDAR
