BEGIN:VCALENDAR
VERSION:2.0
PRODID:-//Plone.org//NONSGML plone.app.event//EN
X-WR-TIMEZONE:Europe/Berlin
BEGIN:VEVENT
SUMMARY:Seitentitel
DTSTART;TZID=Europe/Berlin;VALUE=DATE-TIME:20260420T020000
DTEND;TZID=Europe/Berlin;VALUE=DATE-TIME:20260420T030000
DTSTAMP;VALUE=DATE-TIME:20260420T021013Z
UID:410cb82dfc3b4bb298a16231de9fd487@website_zeoclients
CONTACT:Slowfood Deutschland e.V.\, info@slowfood.de
CREATED;VALUE=DATE-TIME:20070423T162153Z
LAST-MODIFIED;VALUE=DATE-TIME:20220620T195555Z
URL:https://www.slowfood.de/netzwerk/vor-ort/lausitz/termine_mit_formular/
 seitentitel_1
END:VEVENT
BEGIN:VTIMEZONE
TZID:Europe/Berlin
X-LIC-LOCATION:Europe/Berlin
BEGIN:DAYLIGHT
DTSTART;VALUE=DATE-TIME:20260329T030000
TZNAME:CEST
TZOFFSETFROM:+0100
TZOFFSETTO:+0200
END:DAYLIGHT
END:VTIMEZONE
END:VCALENDAR
