BEGIN:VCALENDAR
VERSION:2.0
PRODID:-//Plone.org//NONSGML plone.app.event//EN
X-WR-TIMEZONE:Europe/Berlin
BEGIN:VEVENT
SUMMARY:Enten
DTSTART;TZID=CET;VALUE=DATE-TIME:20061110T193000
DTEND;TZID=CET;VALUE=DATE-TIME:20061110T235959
DTSTAMP;VALUE=DATE-TIME:20260422T021257Z
UID:5e57e1744265408e9a38972ffabdbeb3@website_zeoclients
CONTACT:Slowfood Deutschland e.V.\, luebeck@slowfood.de
CREATED;VALUE=DATE-TIME:20060530T163841Z
LAST-MODIFIED;VALUE=DATE-TIME:20220620T200033Z
LOCATION:Speisenmeisterei im Palais\, Am Markt 9\, 23701\, Eutin
URL:https://www.slowfood.de/netzwerk/vor-ort/luebeck/termine/enten
END:VEVENT
BEGIN:VTIMEZONE
TZID:CET
X-LIC-LOCATION:CET
BEGIN:STANDARD
DTSTART;VALUE=DATE-TIME:20061029T020000
TZNAME:CET
TZOFFSETFROM:+0200
TZOFFSETTO:+0100
END:STANDARD
END:VTIMEZONE
END:VCALENDAR
