BEGIN:VCALENDAR
VERSION:2.0
PRODID:-//Plone.org//NONSGML plone.app.event//EN
X-WR-TIMEZONE:Europe/Berlin
BEGIN:VEVENT
SUMMARY:Schneckentisch
DTSTART;TZID=CET;VALUE=DATE-TIME:20060510T193000
DTEND;TZID=CET;VALUE=DATE-TIME:20060510T235959
DTSTAMP;VALUE=DATE-TIME:20260420T014637Z
UID:896590a86a464d8db43bf3b3916196c8@website_zeoclients
CONTACT:Slowfood Deutschland e.V.\, luebeck@slowfood.de
CREATED;VALUE=DATE-TIME:20060507T202001Z
LAST-MODIFIED;VALUE=DATE-TIME:20220620T200034Z
LOCATION:Speisenmeisterei im Palais\, Am Markt 9\, 23701\, Eutin
URL:https://www.slowfood.de/netzwerk/vor-ort/luebeck/termine/schneckentisc
 h
END:VEVENT
BEGIN:VTIMEZONE
TZID:CET
X-LIC-LOCATION:CET
BEGIN:DAYLIGHT
DTSTART;VALUE=DATE-TIME:20060326T030000
TZNAME:CEST
TZOFFSETFROM:+0100
TZOFFSETTO:+0200
END:DAYLIGHT
END:VTIMEZONE
END:VCALENDAR
