BEGIN:VCALENDAR
VERSION:2.0
PRODID:-//Plone.org//NONSGML plone.app.event//EN
X-WR-TIMEZONE:Europe/Berlin
BEGIN:VEVENT
SUMMARY:Stintessen
DTSTART;TZID=CET;VALUE=DATE-TIME:20140323T143000
DTEND;TZID=CET;VALUE=DATE-TIME:20140323T235959
DTSTAMP;VALUE=DATE-TIME:20260421T195555Z
UID:64433e10ed97436f8b8b4ad19718de26@website_zeoclients
CONTACT:Slowfood Deutschland e.V.\, luebeck@slowfood.de
CREATED;VALUE=DATE-TIME:20140320T091508Z
LAST-MODIFIED;VALUE=DATE-TIME:20220620T200013Z
LOCATION:Grubes Fischerhütte\, Hoopter Elbdeich 32\, 21423\, Winsen
URL:https://www.slowfood.de/netzwerk/vor-ort/luebeck/termine/stintessen
END:VEVENT
BEGIN:VTIMEZONE
TZID:CET
X-LIC-LOCATION:CET
BEGIN:STANDARD
DTSTART;VALUE=DATE-TIME:20131027T020000
TZNAME:CET
TZOFFSETFROM:+0200
TZOFFSETTO:+0100
END:STANDARD
END:VTIMEZONE
END:VCALENDAR
