BEGIN:VCALENDAR
VERSION:2.0
PRODID:-//Plone.org//NONSGML plone.app.event//EN
X-WR-TIMEZONE:Europe/Berlin
BEGIN:VEVENT
SUMMARY:Verabredung zum Essen - Schlosskeller Giessen
DTSTART;TZID=CET;VALUE=DATE-TIME:20070629T190000
DTEND;TZID=CET;VALUE=DATE-TIME:20070629T235959
DTSTAMP;VALUE=DATE-TIME:20260420T015613Z
UID:b738cca475164a63a30166100a5dac62@website_zeoclients
CREATED;VALUE=DATE-TIME:20070618T191902Z
LAST-MODIFIED;VALUE=DATE-TIME:20220620T200712Z
LOCATION:Schlosskeller\, Brandplatz 2\, 35390\, Giessen
URL:https://www.slowfood.de/netzwerk/vor-ort/mittelhessen/schlosskeller
END:VEVENT
BEGIN:VTIMEZONE
TZID:CET
X-LIC-LOCATION:CET
BEGIN:DAYLIGHT
DTSTART;VALUE=DATE-TIME:20070325T030000
TZNAME:CEST
TZOFFSETFROM:+0100
TZOFFSETTO:+0200
END:DAYLIGHT
END:VTIMEZONE
END:VCALENDAR
