BEGIN:VCALENDAR
VERSION:2.0
PRODID:-//Plone.org//NONSGML plone.app.event//EN
X-WR-TIMEZONE:Europe/Berlin
BEGIN:VEVENT
SUMMARY:Weinstammtisch: Edel\, süß & manchmal stark
DTSTART;TZID=CET;VALUE=DATE-TIME:20080518T183000
DTEND;TZID=CET;VALUE=DATE-TIME:20080518T235959
DTSTAMP;VALUE=DATE-TIME:20260421T062221Z
UID:28a208dc28454c9888669723de13e461@website_zeoclients
CONTACT:Slowfood Deutschland e.V.\, marburg@slowfood.de
CREATED;VALUE=DATE-TIME:20071216T133112Z
LAST-MODIFIED;VALUE=DATE-TIME:20220620T200713Z
LOCATION:Dierkes/Wagner\, Uferstr.13\, 35037\, Marburg
URL:https://www.slowfood.de/netzwerk/vor-ort/mittelhessen/weinstammtisch_e
 del_suess
END:VEVENT
BEGIN:VTIMEZONE
TZID:CET
X-LIC-LOCATION:CET
BEGIN:DAYLIGHT
DTSTART;VALUE=DATE-TIME:20080330T030000
TZNAME:CEST
TZOFFSETFROM:+0100
TZOFFSETTO:+0200
END:DAYLIGHT
END:VTIMEZONE
END:VCALENDAR
