BEGIN:VCALENDAR
VERSION:2.0
PRODID:-//Plone.org//NONSGML plone.app.event//EN
X-WR-TIMEZONE:Europe/Berlin
BEGIN:VEVENT
SUMMARY:Kinder-Mahl
DTSTART;TZID=CET;VALUE=DATE-TIME:20070603T000000
DTEND;TZID=CET;VALUE=DATE-TIME:20070603T235959
DTSTAMP;VALUE=DATE-TIME:20260422T214215Z
UID:cc76700e60be49d2b2f2aac92fb2d2ce@website_zeoclients
CREATED;VALUE=DATE-TIME:20070218T162142Z
LAST-MODIFIED;VALUE=DATE-TIME:20220620T200804Z
LOCATION:Scheune Bollewick\, Bollewick / Röbel (Müritz)
URL:https://www.slowfood.de/netzwerk/vor-ort/mueritz/termine/kinder_mahl
END:VEVENT
BEGIN:VTIMEZONE
TZID:CET
X-LIC-LOCATION:CET
BEGIN:DAYLIGHT
DTSTART;VALUE=DATE-TIME:20070325T030000
TZNAME:CEST
TZOFFSETFROM:+0100
TZOFFSETTO:+0200
END:DAYLIGHT
END:VTIMEZONE
END:VCALENDAR
