BEGIN:VCALENDAR
VERSION:2.0
PRODID:-//Plone.org//NONSGML plone.app.event//EN
X-WR-TIMEZONE:Europe/Berlin
BEGIN:VEVENT
SUMMARY:Archehof
DTSTART;TZID=CET;VALUE=DATE-TIME:20151004T140000
DTEND;TZID=CET;VALUE=DATE-TIME:20151004T170000
DTSTAMP;VALUE=DATE-TIME:20260420T020948Z
UID:a6274a1eeb46431aa842bd6d42bceff5@website_zeoclients
CONTACT:Slowfood Deutschland e.V.\, nuernberg@slowfood.de
CREATED;VALUE=DATE-TIME:20120726T151013Z
LAST-MODIFIED;VALUE=DATE-TIME:20220620T201722Z
LOCATION:Anita u. Karl-Heinz Gerstner\, Eysölden F3\, 91177\, Thalmässin
 g
URL:https://www.slowfood.de/netzwerk/vor-ort/nuernberg/termine/archehof
END:VEVENT
BEGIN:VTIMEZONE
TZID:CET
X-LIC-LOCATION:CET
BEGIN:DAYLIGHT
DTSTART;VALUE=DATE-TIME:20150329T030000
TZNAME:CEST
TZOFFSETFROM:+0100
TZOFFSETTO:+0200
END:DAYLIGHT
END:VTIMEZONE
END:VCALENDAR
