BEGIN:VCALENDAR
VERSION:2.0
PRODID:-//Plone.org//NONSGML plone.app.event//EN
X-WR-TIMEZONE:Europe/Berlin
BEGIN:VEVENT
SUMMARY:Baguette
DTSTART;TZID=CET;VALUE=DATE-TIME:20080607T100000
DTEND;TZID=CET;VALUE=DATE-TIME:20080607T120000
DTSTAMP;VALUE=DATE-TIME:20260419T150519Z
UID:dd396b2762e148bcb5a519d251569cf9@website_zeoclients
CONTACT:Slowfood Deutschland e.V.\, nuernberg@slowfood.de
CREATED;VALUE=DATE-TIME:20060326T093605Z
LAST-MODIFIED;VALUE=DATE-TIME:20220620T201540Z
LOCATION:Bäckerei Erbel\, Hindenburgplatz 1\, 91462\, Dachsbach
URL:https://www.slowfood.de/netzwerk/vor-ort/nuernberg/termine/baguette
END:VEVENT
BEGIN:VTIMEZONE
TZID:CET
X-LIC-LOCATION:CET
BEGIN:DAYLIGHT
DTSTART;VALUE=DATE-TIME:20080330T030000
TZNAME:CEST
TZOFFSETFROM:+0100
TZOFFSETTO:+0200
END:DAYLIGHT
END:VTIMEZONE
END:VCALENDAR
