BEGIN:VCALENDAR
VERSION:2.0
PRODID:-//Plone.org//NONSGML plone.app.event//EN
X-WR-TIMEZONE:Europe/Berlin
BEGIN:VEVENT
SUMMARY:Bier-Sensorik-Seminar
DTSTART;TZID=Europe/Berlin;VALUE=DATE-TIME:20241108T193000
DTEND;TZID=Europe/Berlin;VALUE=DATE-TIME:20241108T223000
DTSTAMP;VALUE=DATE-TIME:20260421T154140Z
UID:fcd39e60daca4832ad00f5f86dbb1c96@website_zeoclients
CONTACT:Torsten Härtelt\, nuernberg@slowfood.de
CREATED;VALUE=DATE-TIME:20240625T135528Z
DESCRIPTION:Ja\, auch Biertrinken will gelernt sein!
LAST-MODIFIED;VALUE=DATE-TIME:20241031T160533Z
LOCATION:Whiskyclub\, Sebalder Höfe\, Kupferschmiedshof 6 (links vom kelt
 ischen Kreuz)\, 90403\, Nürnberg
URL:https://www.slowfood.de/netzwerk/vor-ort/nuernberg/termine/bier-sensor
 ik-seminar
END:VEVENT
BEGIN:VTIMEZONE
TZID:Europe/Berlin
X-LIC-LOCATION:Europe/Berlin
BEGIN:STANDARD
DTSTART;VALUE=DATE-TIME:20241027T020000
TZNAME:CET
TZOFFSETFROM:+0200
TZOFFSETTO:+0100
END:STANDARD
END:VTIMEZONE
END:VCALENDAR
