BEGIN:VCALENDAR
VERSION:2.0
PRODID:-//Plone.org//NONSGML plone.app.event//EN
X-WR-TIMEZONE:Europe/Berlin
BEGIN:VEVENT
SUMMARY:Herbstfest Interkultureller Garten und CV Nürnberg
DTSTART;TZID=Europe/Berlin;VALUE=DATE-TIME:20220918T140000
DTSTAMP;VALUE=DATE-TIME:20260420T060240Z
UID:8720d3939b4142c8918b2d13e55babce@website_zeoclients
CATEGORIES:Termin 30 Jahre
CONTACT:Helga Balletta\, nuernberg@slowfood.de
CREATED;VALUE=DATE-TIME:20220623T105441Z
DESCRIPTION:Slow Food Nürnberg feiert ein Herbstfest mit und im Interkult
 urellen Garten Fürth
LAST-MODIFIED;VALUE=DATE-TIME:20220911T175632Z
LOCATION:Fürth\, Interkultureller Garten\, Weiherstraße 5\, 90762\, Für
 th
URL:https://www.slowfood.de/netzwerk/vor-ort/nuernberg/termine/herbstfest
END:VEVENT
BEGIN:VTIMEZONE
TZID:Europe/Berlin
X-LIC-LOCATION:Europe/Berlin
BEGIN:DAYLIGHT
DTSTART;VALUE=DATE-TIME:20220327T030000
TZNAME:CEST
TZOFFSETFROM:+0100
TZOFFSETTO:+0200
END:DAYLIGHT
END:VTIMEZONE
END:VCALENDAR
