BEGIN:VCALENDAR
VERSION:2.0
PRODID:-//Plone.org//NONSGML plone.app.event//EN
X-WR-TIMEZONE:Europe/Berlin
BEGIN:VEVENT
SUMMARY:Obstarche
DTSTART;TZID=CET;VALUE=DATE-TIME:20130504T143000
DTEND;TZID=CET;VALUE=DATE-TIME:20130504T235959
DTSTAMP;VALUE=DATE-TIME:20260419T204938Z
UID:f919c5a0553c456a8ce6bac778619f6a@website_zeoclients
CONTACT:Slowfood Deutschland e.V.\, nuernberg@slowfood.de
CREATED;VALUE=DATE-TIME:20120726T151013Z
LAST-MODIFIED;VALUE=DATE-TIME:20220620T201648Z
LOCATION:am Parkplatz des Gasthof Gentner\, Gnotzheim\, Spielberg 1\, 9172
 8 \, Gnotzheim OT Spielberg
URL:https://www.slowfood.de/netzwerk/vor-ort/nuernberg/termine/obstarche
END:VEVENT
BEGIN:VTIMEZONE
TZID:CET
X-LIC-LOCATION:CET
BEGIN:DAYLIGHT
DTSTART;VALUE=DATE-TIME:20130331T030000
TZNAME:CEST
TZOFFSETFROM:+0100
TZOFFSETTO:+0200
END:DAYLIGHT
END:VTIMEZONE
END:VCALENDAR
