BEGIN:VCALENDAR
VERSION:2.0
PRODID:-//Plone.org//NONSGML plone.app.event//EN
X-WR-TIMEZONE:Europe/Berlin
BEGIN:VEVENT
SUMMARY:Pizzakurs
DTSTART;TZID=Europe/Berlin;VALUE=DATE-TIME:20260119T180000
DTSTAMP;VALUE=DATE-TIME:20260421T105056Z
UID:ff8a83ee7b354729a50e049777937960@website_zeoclients
CONTACT:Klaus-Peter Staiger\, nuernberg@slowfood.de
CREATED;VALUE=DATE-TIME:20251113T145010Z
DESCRIPTION:Pizza mal ohne Karton - bella Italia für Zuhause
LAST-MODIFIED;VALUE=DATE-TIME:20260119T100410Z
LOCATION:Pizza e Pasta da Antonella\, Nürnberger Str. 12\, 91244\, Reiche
 nschwand
URL:https://www.slowfood.de/netzwerk/vor-ort/nuernberg/termine/pizzakurs
END:VEVENT
BEGIN:VTIMEZONE
TZID:Europe/Berlin
X-LIC-LOCATION:Europe/Berlin
BEGIN:STANDARD
DTSTART;VALUE=DATE-TIME:20251026T020000
TZNAME:CET
TZOFFSETFROM:+0200
TZOFFSETTO:+0100
END:STANDARD
END:VTIMEZONE
END:VCALENDAR
