BEGIN:VCALENDAR
VERSION:2.0
PRODID:-//Plone.org//NONSGML plone.app.event//EN
X-WR-TIMEZONE:Europe/Berlin
BEGIN:VEVENT
SUMMARY:Sardischer Abend
DTSTART;TZID=CET;VALUE=DATE-TIME:20070727T190000
DTEND;TZID=CET;VALUE=DATE-TIME:20070727T235959
DTSTAMP;VALUE=DATE-TIME:20260420T021452Z
UID:dc3cc6e5ffcc40a28fae51637d48f487@website_zeoclients
CONTACT:Slowfood Deutschland e.V.\, nuernberg@slowfood.de
CREATED;VALUE=DATE-TIME:20060326T093605Z
LAST-MODIFIED;VALUE=DATE-TIME:20220620T201526Z
LOCATION:Restaurant „Roter Ochse“\, Jürgen Beyer\, Hauptstraße 57\, 
 90607\, Rückersdorf
URL:https://www.slowfood.de/netzwerk/vor-ort/nuernberg/termine/sardischera
 bend
END:VEVENT
BEGIN:VTIMEZONE
TZID:CET
X-LIC-LOCATION:CET
BEGIN:DAYLIGHT
DTSTART;VALUE=DATE-TIME:20070325T030000
TZNAME:CEST
TZOFFSETFROM:+0100
TZOFFSETTO:+0200
END:DAYLIGHT
END:VTIMEZONE
END:VCALENDAR
