BEGIN:VCALENDAR
VERSION:2.0
PRODID:-//Plone.org//NONSGML plone.app.event//EN
X-WR-TIMEZONE:Europe/Berlin
BEGIN:VEVENT
SUMMARY:Vom Weinfreund zum Weinkenner für Einsteiger\, Fortgeschrittene\n
 und Profis.\nWeinseminar Teil I
DTSTART;TZID=CET;VALUE=DATE-TIME:20080118T190000
DTEND;TZID=CET;VALUE=DATE-TIME:20080118T235959
DTSTAMP;VALUE=DATE-TIME:20260421T014524Z
UID:59eef3e0a7514f6fba5d4ec5b9930447@website_zeoclients
CONTACT:Slowfood Deutschland e.V.\, nuernberg@slowfood.de
CREATED;VALUE=DATE-TIME:20060326T093605Z
LAST-MODIFIED;VALUE=DATE-TIME:20220620T201532Z
LOCATION:K & U – Weinhalle - Martin Kössler\, Nordostpark 78\, 90411\, 
 Nürnberg
URL:https://www.slowfood.de/netzwerk/vor-ort/nuernberg/termine/sensoriksem
 inar_i
END:VEVENT
BEGIN:VTIMEZONE
TZID:CET
X-LIC-LOCATION:CET
BEGIN:STANDARD
DTSTART;VALUE=DATE-TIME:20071028T020000
TZNAME:CET
TZOFFSETFROM:+0200
TZOFFSETTO:+0100
END:STANDARD
END:VTIMEZONE
END:VCALENDAR
