BEGIN:VCALENDAR
VERSION:2.0
PRODID:-//Plone.org//NONSGML plone.app.event//EN
X-WR-TIMEZONE:Europe/Berlin
BEGIN:VEVENT
SUMMARY:Literatur & Essen
DTSTART;TZID=Europe/Berlin;VALUE=DATE-TIME:20260829T160000
DTSTAMP;VALUE=DATE-TIME:20260419T141533Z
UID:bd31b64bba614767bd195912a793f794@website_zeoclients
CONTACT:Torsten Härtelt\, nuernberg@slowfood.de
CREATED;VALUE=DATE-TIME:20260110T111711Z
DESCRIPTION:...mit Marga\, Klaus-Peter und Torsten
LAST-MODIFIED;VALUE=DATE-TIME:20260411T152045Z
LOCATION:Forsthaus Schweigelberg\, oberhalb Behringersmühle\, 91327\, Gö
 ßweinstein
URL:https://www.slowfood.de/netzwerk/vor-ort/nuernberg/termine/spass-essen
END:VEVENT
BEGIN:VTIMEZONE
TZID:Europe/Berlin
X-LIC-LOCATION:Europe/Berlin
BEGIN:DAYLIGHT
DTSTART;VALUE=DATE-TIME:20260329T030000
TZNAME:CEST
TZOFFSETFROM:+0100
TZOFFSETTO:+0200
END:DAYLIGHT
END:VTIMEZONE
END:VCALENDAR
