BEGIN:VCALENDAR
VERSION:2.0
PRODID:-//Plone.org//NONSGML plone.app.event//EN
X-WR-TIMEZONE:Europe/Berlin
BEGIN:VEVENT
SUMMARY:Tafelrunde März_2012
DTSTART;TZID=CET;VALUE=DATE-TIME:20120302T190000
DTEND;TZID=CET;VALUE=DATE-TIME:20120302T235959
DTSTAMP;VALUE=DATE-TIME:20260420T150859Z
UID:09057d51ed174d1f8fdc511b5809a63d@website_zeoclients
CONTACT:Slowfood Deutschland e.V.\, nuernberg@slowfood.de
CREATED;VALUE=DATE-TIME:20110717T103902Z
LAST-MODIFIED;VALUE=DATE-TIME:20220620T201630Z
LOCATION:Goldener Hirsch\, Hopfenstraße 16\, 91207\, Lauf-Simonshofen
URL:https://www.slowfood.de/netzwerk/vor-ort/nuernberg/termine/tafelrunde_
 maerz_2012
END:VEVENT
BEGIN:VTIMEZONE
TZID:CET
X-LIC-LOCATION:CET
BEGIN:STANDARD
DTSTART;VALUE=DATE-TIME:20111030T020000
TZNAME:CET
TZOFFSETFROM:+0200
TZOFFSETTO:+0100
END:STANDARD
END:VTIMEZONE
END:VCALENDAR
